BEGIN:VCALENDAR
VERSION:2.0
PRODID:-//Abicht | Hafenrundfahrten Hamburg - Schiffe chartern - Barkassenfahrt - ECPv5.16.0//NONSGML v1.0//EN
CALSCALE:GREGORIAN
METHOD:PUBLISH
X-WR-CALNAME:Abicht | Hafenrundfahrten Hamburg - Schiffe chartern - Barkassenfahrt
X-ORIGINAL-URL:https://umzug.devfabrik.de
X-WR-CALDESC:Veranstaltungen für Abicht | Hafenrundfahrten Hamburg - Schiffe chartern - Barkassenfahrt
BEGIN:VTIMEZONE
TZID:Europe/Berlin
BEGIN:DAYLIGHT
TZOFFSETFROM:+0100
TZOFFSETTO:+0200
TZNAME:CEST
DTSTART:20220327T010000
END:DAYLIGHT
BEGIN:STANDARD
TZOFFSETFROM:+0200
TZOFFSETTO:+0100
TZNAME:CET
DTSTART:20221030T010000
END:STANDARD
END:VTIMEZONE
BEGIN:VEVENT
DTSTART;TZID=Europe/Berlin:20220612T090000
DTEND;TZID=Europe/Berlin:20220612T190000
DTSTAMP:20260424T105916
CREATED:20220123T112659Z
LAST-MODIFIED:20220128T072024Z
UID:3909-1655024400-1655060400@umzug.devfabrik.de
SUMMARY:2. Tagesfahrt zu den Glückstädter Matjeswochen
DESCRIPTION:EVENTINFO:\nGlückstädter Matjeswochen \nUnser traditioneller Ausflug jedes Jahr im Juni. Wir legen morgens an den St. Pauli Landungsbrücken in Hamburg ab und schippern auf dem direkten Wege elbabwärts in Richtung Glückstadt. Die Fahrt dauert ca. 3 Stunden. \nNachdem wir im Glückstädter Hafen angelegt haben\, haben Sie in diesem Jahr erstmalig 4 Stunden Aufenthalt an Land\, um nach Ihren persönlichen Wünschen die Glückstädter Matjeswochen in Ruhe zu genießen. Nachmittags heißt es dann wieder „Leinen los“ und wir fahren zurück nach Hamburg. \nDer Ordnung halber weisen wir darauf hin\, dass der Aus- bzw. Einstieg in Glückstadt über eine separate Gangway erfolgt. Daher ist diese Fahrt gehbehinderten Mitmenschen nur bedingt zu empfehlen. \nFAHRPLAN\nEinstieg: 08.30 Uhr bis 09.00 Uhr\nAnkunft in Glückstadt: ca. 12.00 Uhr\nAbfahrt in Glückstadt: 16.00 Uhr\nAusstieg in Hamburg: ca. 19.00 Uhr\n(zeitliche Änderungen vorbehalten) \nGastronomie\nAn Bord hält unser Team der Bordgastronomie kleine Snacks laut Tageskarte und verschiedene Getränke für Sie bereit (nicht im Preis inklusive). Der Ordnung halber weisen wir darauf hin\, dass das Einbringen eigener Speisen und Getränke nicht gestattet ist. \nTicketservice\nDie Versandgebühr beträgt Euro 3\,00 pro Auftrag.
URL:https://umzug.devfabrik.de/event/2-tagesfahrt-zu-den-glueckstaedter-matjeswochen-2/
LOCATION:St. Pauli Landungsbrücken\, Brücke 4-10\, St. Pauli Landungsbrücken\, Brücke 4-10\, Hamburg\, 20359\, Deutschland
CATEGORIES:Veranstaltungen
ATTACH;FMTTYPE=image/jpeg:https://umzug.devfabrik.de/wp-content/uploads/2018/05/Glückstadt_Häuserzeile.jpg
ORGANIZER;CN="Rainer%20Abicht%20%E2%80%93%20Elbreederei%20GmbH%20%26%20Co.%20KG":MAILTO:kontakt@abicht.de
END:VEVENT
END:VCALENDAR