BEGIN:VCALENDAR
VERSION:2.0
PRODID:-//Abicht | Hafenrundfahrten Hamburg - Schiffe chartern - Barkassenfahrt - ECPv5.16.0//NONSGML v1.0//EN
CALSCALE:GREGORIAN
METHOD:PUBLISH
X-WR-CALNAME:Abicht | Hafenrundfahrten Hamburg - Schiffe chartern - Barkassenfahrt
X-ORIGINAL-URL:https://umzug.devfabrik.de
X-WR-CALDESC:Veranstaltungen für Abicht | Hafenrundfahrten Hamburg - Schiffe chartern - Barkassenfahrt
BEGIN:VTIMEZONE
TZID:Europe/Berlin
BEGIN:DAYLIGHT
TZOFFSETFROM:+0100
TZOFFSETTO:+0200
TZNAME:CEST
DTSTART:20220327T010000
END:DAYLIGHT
BEGIN:STANDARD
TZOFFSETFROM:+0200
TZOFFSETTO:+0100
TZNAME:CET
DTSTART:20221030T010000
END:STANDARD
END:VTIMEZONE
BEGIN:VEVENT
DTSTART;TZID=Europe/Berlin:20220917T200000
DTEND;TZID=Europe/Berlin:20220917T230000
DTSTAMP:20260422T145432
CREATED:20220118T103133Z
LAST-MODIFIED:20220708T114920Z
UID:3864-1663444800-1663455600@umzug.devfabrik.de
SUMMARY:Die Original Hamburger Bord-Party zum Hafengeburtstag
DESCRIPTION:Die Original Hamburger Bord-Party zum Hafengeburtstag! \nErlebt eine ganz besondere Atmosphäre im Hamburger Hafen und feiert mit uns den Hamburger Hafengeburtstag. \n\nLasst es euch an Bord unseres Partyschiffes gut gehen und genießt das schmackhafte Büffet\, die leckeren Drinks\, die ausgelassene Partystimmung und natürlich den abendlichen Blick über die Elbe und auf das Feuerwerk. \nIm Preis inklusive:\nBier\, Wein\, Wasser oder Softdrinks soviel Ihr mögt – die ganze Nacht. \nBucht jetzt exklusiv die Tickets und sichert euch einen Platz an Bord! \n\nWann?\nAm 17.09.22 von 20:00 bis 23:00 Uhr. \nInformationen und Tickets auf www.bordparty.de. \n\n(Änderungen behalten wir uns vor)
URL:https://umzug.devfabrik.de/event/die-original-hamburger-bord-party-zum-hafengeburtstag-2g-plus-modell/
LOCATION:Anleger Sandtorhöft (Kehrwiederspitze)\, Niederhafen\, Hamburg\, 20457\, Deutschland
CATEGORIES:Veranstaltungen
ATTACH;FMTTYPE=image/jpeg:https://umzug.devfabrik.de/wp-content/uploads/2018/05/Bordparty_Abicht.jpg
ORGANIZER;CN="RAINER%20ABICHT%20Elbreederei%20GmbH%20%26%20Co.%20KG":MAILTO:info@bordparty.de
END:VEVENT
END:VCALENDAR