BEGIN:VCALENDAR
VERSION:2.0
PRODID:-//Abicht | Hafenrundfahrten Hamburg - Schiffe chartern - Barkassenfahrt - ECPv5.16.0//NONSGML v1.0//EN
CALSCALE:GREGORIAN
METHOD:PUBLISH
X-WR-CALNAME:Abicht | Hafenrundfahrten Hamburg - Schiffe chartern - Barkassenfahrt
X-ORIGINAL-URL:https://umzug.devfabrik.de
X-WR-CALDESC:Veranstaltungen für Abicht | Hafenrundfahrten Hamburg - Schiffe chartern - Barkassenfahrt
BEGIN:VTIMEZONE
TZID:Europe/Berlin
BEGIN:DAYLIGHT
TZOFFSETFROM:+0100
TZOFFSETTO:+0200
TZNAME:CEST
DTSTART:20220327T010000
END:DAYLIGHT
BEGIN:STANDARD
TZOFFSETFROM:+0200
TZOFFSETTO:+0100
TZNAME:CET
DTSTART:20221030T010000
END:STANDARD
END:VTIMEZONE
BEGIN:VEVENT
DTSTART;TZID=Europe/Berlin:20220608T190000
DTEND;TZID=Europe/Berlin:20220608T210000
DTSTAMP:20260421T064411
CREATED:20220125T115024Z
LAST-MODIFIED:20220607T095645Z
UID:3930-1654714800-1654722000@umzug.devfabrik.de
SUMMARY:ABSAGE - Ermittlungen an Bord mit Eric Berg
DESCRIPTION:Update 07.06.2022 Seitens der THALIA Buchhandlungen\n \nAufgrund der kürzlich festgestellten Corona-Erkrankung von Eric Berg müssen wir die Lesung am 08.06.2022\, auch zu Ihrem Schutz\, leider absagen. Eric Berg tut es sehr leid keine gemeinsame Lesung an Bord der MS HANSE STAR mit Ihnen erleben zu können. Natürlich erstatten wir Ihnen den Ticketpreis. Hierzu informieren wir Sie separat. \nBitte entschuldigen Sie vielmals die Unannehmlichkeiten. Wir freuen uns sehr\, Sie bei nächster Gelegenheit wieder zu einer Veranstaltung begrüßen zu dürfen. \nErleben Sie mit uns und den Hamburger Thalia-Buchhandlungen Hochspannung an Bord. Wir nehmen Sie mit auf einer Elbrundfahrt inklusive literatischer Unterhaltung! \nEric Berg »Die Toten von Fehmarn« \nAcht Freunde\, acht Geheimnisse\, eines davon ist tödlich … Doro Kagel ermittelt in ihrem dritten Fall auf Fehmarn! \nDoro Kagels Jugendfreund Jan-Arne\, zu dem sie seit Jahren keinen Kontakt mehr hatte\, wurde auf Fehmarn ermordet. Kurz bevor er starb\, flüsterte er Doros Namen. In Doro werden Erinnerungen wach an ihren letzten Besuch auf der Insel vor vielen Jahren. \nWeitere Infos zum Buch und den Autoren \nGastronomie\nVerschiedene Getränke sind vor Abfahrt und in der Pause laut Bordkarte erhältlich. \nTicketservice\nDie Versandgebühr beträgt EUR 3\,00 pro Auftrag \nProgrammänderungen vorbehalten. Es gelten die zum Zeitpunkt der Veranstaltung gültigen Regeln einer Allgemeinverfügung im Rahmen der COVID-19 Pandemie (Stand 01/2022). Sollte die Veranstaltung nicht durchführbar sein\, werden Sie rechtzeitig informiert.
URL:https://umzug.devfabrik.de/event/ermittlungen-an-bord-mit-eric-berg/
LOCATION:St. Pauli Landungsbrücken\, Brücke 4-10\, St. Pauli Landungsbrücken\, Brücke 4-10\, Hamburg\, 20359\, Deutschland
CATEGORIES:Veranstaltungen
ATTACH;FMTTYPE=image/jpeg:https://umzug.devfabrik.de/wp-content/uploads/2022/06/Berg_Eric_abgesagt.jpg
ORGANIZER;CN="Rainer%20Abicht%20%E2%80%93%20Elbreederei%20GmbH%20%26%20Co.%20KG":MAILTO:kontakt@abicht.de
END:VEVENT
END:VCALENDAR