BEGIN:VCALENDAR
VERSION:2.0
PRODID:-//Abicht | Hafenrundfahrten Hamburg - Schiffe chartern - Barkassenfahrt - ECPv5.16.0//NONSGML v1.0//EN
CALSCALE:GREGORIAN
METHOD:PUBLISH
X-WR-CALNAME:Abicht | Hafenrundfahrten Hamburg - Schiffe chartern - Barkassenfahrt
X-ORIGINAL-URL:https://umzug.devfabrik.de
X-WR-CALDESC:Veranstaltungen für Abicht | Hafenrundfahrten Hamburg - Schiffe chartern - Barkassenfahrt
BEGIN:VTIMEZONE
TZID:Europe/Berlin
BEGIN:DAYLIGHT
TZOFFSETFROM:+0100
TZOFFSETTO:+0200
TZNAME:CEST
DTSTART:20220327T010000
END:DAYLIGHT
BEGIN:STANDARD
TZOFFSETFROM:+0200
TZOFFSETTO:+0100
TZNAME:CET
DTSTART:20221030T010000
END:STANDARD
END:VTIMEZONE
BEGIN:VEVENT
DTSTART;TZID=Europe/Berlin:20220303T190000
DTEND;TZID=Europe/Berlin:20220303T210000
DTSTAMP:20260420T111129
CREATED:20191219T130735Z
LAST-MODIFIED:20220216T111027Z
UID:2394-1646334000-1646341200@umzug.devfabrik.de
SUMMARY:Ermittlungen an Bord mit Prof. Klaus Püschel u. a.
DESCRIPTION:NEUER TERMIN – exklusiv an Bord \nErleben Sie mit uns und den Hamburger Thalia-Buchhandlungen Hochspannung an Bord. Wir nehmen Sie mit auf einer Elbrundfahrt inklusive literatischer Unterhaltung! \nProf. Klaus Püschel\, Martin Erftenbeck und Dr. Annette Marquardt\n„Wahrheit. Tote haben Recht(e)“\n \nEinblick in die Aufklärung von Mordfällen. Was macht erfolgreiche Ermittlungsarbeit aus? Anhand von realen Fallgeschichten wird erstmals gezeigt\, wie Staatsanwaltschaft\, Kriminalpolizei und Rechtsmedizin zusammenarbeiten\, um Kapitaldelikte zu lösen. Wenn ein Mensch getötet wurde\, braucht es den Sachverstand aller drei Professionen\, um die Wahrheit herauszufinden. Das Buch vermittelt uns ein neues Verständnis von professioneller Ermittlungsstrategie. \nEin so tiefer Einblick in die Puzzlearbeit der Aufklärung von Mordfällen hat bislang gefehlt. \nWeitere Infos zum Buch und den Autoren \nGastronomie\nVerschiedene Getränke sind vor Abfahrt und in der Pause laut Bordkarte erhältlich. \nTicketservice\nDie Versandgebühr beträgt EUR 3\,00 pro Auftrag \nProgrammänderungen vorbehalten. Es gelten die zum Zeitpunkt der Veranstaltung gültigen Regeln einer Allgemeinverfügung im Rahmen der COVID-19 Pandemie (Stand 12/2021). Sollte die Veranstaltung nicht durchführbar sein\, werden Sie rechtzeitig informiert.
URL:https://umzug.devfabrik.de/event/ermittlungen-an-bord-mit-prof-klaus-pueschel-u-a/
LOCATION:St. Pauli Landungsbrücken\, Brücke 4-10\, St. Pauli Landungsbrücken\, Brücke 4-10\, Hamburg\, 20359\, Deutschland
CATEGORIES:Veranstaltungen
ATTACH;FMTTYPE=image/jpeg:https://umzug.devfabrik.de/wp-content/uploads/2019/12/Püschel_komplett_ohne-Thalia.jpg
ORGANIZER;CN="Rainer%20Abicht%20%E2%80%93%20Elbreederei%20GmbH%20%26%20Co.%20KG":MAILTO:kontakt@abicht.de
END:VEVENT
END:VCALENDAR