BEGIN:VCALENDAR
VERSION:2.0
PRODID:-//Abicht | Hafenrundfahrten Hamburg - Schiffe chartern - Barkassenfahrt - ECPv5.16.0//NONSGML v1.0//EN
CALSCALE:GREGORIAN
METHOD:PUBLISH
X-WR-CALNAME:Abicht | Hafenrundfahrten Hamburg - Schiffe chartern - Barkassenfahrt
X-ORIGINAL-URL:https://umzug.devfabrik.de
X-WR-CALDESC:Veranstaltungen für Abicht | Hafenrundfahrten Hamburg - Schiffe chartern - Barkassenfahrt
BEGIN:VTIMEZONE
TZID:Europe/Berlin
BEGIN:DAYLIGHT
TZOFFSETFROM:+0100
TZOFFSETTO:+0200
TZNAME:CEST
DTSTART:20230326T010000
END:DAYLIGHT
BEGIN:STANDARD
TZOFFSETFROM:+0200
TZOFFSETTO:+0100
TZNAME:CET
DTSTART:20231029T010000
END:STANDARD
END:VTIMEZONE
BEGIN:VEVENT
DTSTART;TZID=Europe/Berlin:20230408T200000
DTEND;TZID=Europe/Berlin:20230408T223000
DTSTAMP:20260422T154416
CREATED:20221027T133211Z
LAST-MODIFIED:20221028T095045Z
UID:4650-1680984000-1680993000@umzug.devfabrik.de
SUMMARY:Große Osterfeuer- und Lichterfahrt
DESCRIPTION:EVENTINFO:\nGroße Osterfeuer- und Lichterfahrt am Ostersonnabend mit unserem imposanten Schaufelradschiff LOUISIANA STAR. \nEs sind wohl die größten und schönsten Osterfeuer hier in Hamburg. Die beste Sicht haben Sie von den großzügigen Freidecks an Bord. Begleiten Sie uns zu den Osterfeuern entlang der Elbe bis Blankenese. \nWas früher als Wettstreit mit aus der Elbe geborgenen Fischkörben zwischen den Dockenhudenern\, Tinsdalern und Blankenesern begann\, ist heute das traditionelle Erlebnis am Ostersamstag. \nUnser Schaufelradschiff LOUISIANA STAR bietet Ihnen gemütliches und exklusives Ambiente sowie den besten Ausblick. Wir fahren mit Ihnen zu den Osterfeuern und zeigen Ihnen auch die einzigartige Atmosphäre unseres nächtlichen Hafens. \nGenießen Sie eine 2\,5-stündige Elbefahrt zu den imposanten Osterfeuern und durch den nächtlichen Hamburger Hafen mit Unterhaltung durch einen Akkordeonspieler. \nDas Team der bordeigenen Gastronomie hält für Sie verschiedene kleine Speisen und leckere Getränke an Bord gemäß Tageskarte bereit (nicht im Tocketpreis enthalten). \nDer Ordnung halber weisen wir darauf hin\, dass das Einbringen eigener Speisen und Getränke nicht gestattet ist. \nTicketservice\nDie Versandgebühr beträgt EUR 3\,00 pro Auftrag \nDie RAINER ABICHT Elbreederei hat keinen Einfluss auf das behördliche Genehmigungsverfahren bezüglich des Entzündens der Osterfeuer. \nProgrammänderungen vorbehalten. Es gelten die zum Zeitpunkt der Veranstaltung gültigen Regeln einer Allgemeinverfügung im Rahmen der COVID-19 Pandemie.  \nSollte die Veranstaltung nicht durchführbar sein\, werden Sie rechtzeitig informiert.
URL:https://umzug.devfabrik.de/event/grosse-osterfeuer-und-lichterfahrt-2/
LOCATION:Überseebrücke / Brandenburger Hafen (U3 Baumwall)\, Überseebrücke\, Hamburg\, 20459\, Deutschland
CATEGORIES:Veranstaltungen
ATTACH;FMTTYPE=image/jpeg:https://umzug.devfabrik.de/wp-content/uploads/2018/05/Osterfeuer_Blankenese_Süllberg_11.jpg
ORGANIZER;CN="Rainer%20Abicht%20%E2%80%93%20Elbreederei%20GmbH%20%26%20Co.%20KG":MAILTO:kontakt@abicht.de
END:VEVENT
END:VCALENDAR