BEGIN:VCALENDAR
VERSION:2.0
PRODID:-//Abicht | Hafenrundfahrten Hamburg - Schiffe chartern - Barkassenfahrt - ECPv5.16.0//NONSGML v1.0//EN
CALSCALE:GREGORIAN
METHOD:PUBLISH
X-WR-CALNAME:Abicht | Hafenrundfahrten Hamburg - Schiffe chartern - Barkassenfahrt
X-ORIGINAL-URL:https://umzug.devfabrik.de
X-WR-CALDESC:Veranstaltungen für Abicht | Hafenrundfahrten Hamburg - Schiffe chartern - Barkassenfahrt
BEGIN:VTIMEZONE
TZID:Europe/Berlin
BEGIN:DAYLIGHT
TZOFFSETFROM:+0100
TZOFFSETTO:+0200
TZNAME:CEST
DTSTART:20220327T010000
END:DAYLIGHT
BEGIN:STANDARD
TZOFFSETFROM:+0200
TZOFFSETTO:+0100
TZNAME:CET
DTSTART:20221030T010000
END:STANDARD
BEGIN:DAYLIGHT
TZOFFSETFROM:+0100
TZOFFSETTO:+0200
TZNAME:CEST
DTSTART:20230326T010000
END:DAYLIGHT
BEGIN:STANDARD
TZOFFSETFROM:+0200
TZOFFSETTO:+0100
TZNAME:CET
DTSTART:20231029T010000
END:STANDARD
END:VTIMEZONE
BEGIN:VEVENT
DTSTART;TZID=Europe/Berlin:20221231T220000
DTEND;TZID=Europe/Berlin:20230101T020000
DTSTAMP:20260420T195018
CREATED:20180517T111733Z
LAST-MODIFIED:20220410T103309Z
UID:563-1672524000-1672538400@umzug.devfabrik.de
SUMMARY:Große Silvester Tanzparty
DESCRIPTION:In toller Atmosphäre feiern & tanzen Sie an Bord ins neue Jahr. Auf den geräumigen Freidecks haben Sie außerdem „Logenplätze“ für den herrlichen Ausblick auf das faszinierende Feuerwerk über dem Hafen und der Stadt zum Jahreswechsel. \n4 Stunden Elbefahrt durch den Hamburger Hafen mit dem Fahrgastschiff MS FANTASIA. \nInkl. einem Begrüßungsgetränk\, Getränkepauschale (Rot- und Weißwein\, Bier\, Alsterwasser\, verschiedene Softgetränke) sowie ein Glas Sekt und ein Berliner pro Person zum Jahreswechsel. Unser professioneller DJ spielt Hits der 80er\, 90er und das Beste aus den Charts! Wünsche werden natürlich auch erfüllt. \nGastronomie\nIm Preis ist eine Getränkepauschale mit folgenden Leistungen enthalten: Bier vom Fass\, Weiß- und Rotwein\, alkoholfreie Getränke sowie Kaffee und Tee\, ein Glas Sekt sowie ein Berliner pro Person zum Jahreswechsel. \nWeitere Getränke und kleine Snacks sind gemäß Tageskarte erhältlich (Barzahlung vor Ort möglich). \nTicketservice\nDie Versandgebühr beträgt Euro 3\,00 pro Auftrag. \nProgrammänderungen vorbehalten. Es gelten die zum Zeitpunkt der Veranstaltung gültigen Regeln einer Allgemeinverfügung im Rahmen der COVID-19 Pandemie. Sollte die Veranstaltung nicht durchführbar sein\, werden Sie rechtzeitig informiert.
URL:https://umzug.devfabrik.de/event/grosse-silvester-tanzparty/
LOCATION:Überseebrücke / Brandenburger Hafen (U3 Baumwall)\, Überseebrücke\, Hamburg\, 20459\, Deutschland
CATEGORIES:Veranstaltungen
ATTACH;FMTTYPE=image/jpeg:https://umzug.devfabrik.de/wp-content/uploads/2018/07/Bordparty_Abicht_Klein.jpg
ORGANIZER;CN="Rainer%20Abicht%20%E2%80%93%20Elbreederei%20GmbH%20%26%20Co.%20KG":MAILTO:kontakt@abicht.de
END:VEVENT
END:VCALENDAR