BEGIN:VCALENDAR
VERSION:2.0
PRODID:-//Abicht | Hafenrundfahrten Hamburg - Schiffe chartern - Barkassenfahrt - ECPv5.16.0//NONSGML v1.0//EN
CALSCALE:GREGORIAN
METHOD:PUBLISH
X-WR-CALNAME:Abicht | Hafenrundfahrten Hamburg - Schiffe chartern - Barkassenfahrt
X-ORIGINAL-URL:https://umzug.devfabrik.de
X-WR-CALDESC:Veranstaltungen für Abicht | Hafenrundfahrten Hamburg - Schiffe chartern - Barkassenfahrt
BEGIN:VTIMEZONE
TZID:Europe/Berlin
BEGIN:DAYLIGHT
TZOFFSETFROM:+0100
TZOFFSETTO:+0200
TZNAME:CEST
DTSTART:20220327T010000
END:DAYLIGHT
BEGIN:STANDARD
TZOFFSETFROM:+0200
TZOFFSETTO:+0100
TZNAME:CET
DTSTART:20221030T010000
END:STANDARD
END:VTIMEZONE
BEGIN:VEVENT
DTSTART;TZID=Europe/Berlin:20220819T203000
DTEND;TZID=Europe/Berlin:20220819T223000
DTSTAMP:20260422T145133
CREATED:20220610T123222Z
LAST-MODIFIED:20220815T110854Z
UID:4261-1660941000-1660948200@umzug.devfabrik.de
SUMMARY:Großes Light up | Eröffnung Blue Port 2022
DESCRIPTION:Im Rahmen des Blue Port 2022 gehen Sie mit uns auf einen 2-stündigen BLUE-RIVER-CRUISE mit Light up an Bord unseres Schaufelradschiffes LOUISIANA STAR in exklusiver Atmosphäre. \nAn Bord (im Salon sowie auf den großzügigen Freidecks) haben Sie freie Platzwahl (keine Reservierung fester Plätze möglich). \nLassen Sie sich verwöhnen und genießen Sie bei stimmungsvoller Musik eine entspannte Zeit bei uns an Bord. \nWir begrüßen Sie mit einem leckeren Getränke zur Begrüßung (im Preis inbegriffen) und zeigen Ihnen die in blaues Licht getauchten Highlights des Hamburger Hafens. \nHöhepunkt ist das geplante Light up durch den Lichtkünstler Herrn Michael Batz des Blue Port 2022 an diesem Abend – und Sie sind live dabei! So wird Queen Mary 2\, das gigantische Kreuzfahrtschiff der CUNARD Reederei\, das Light up des Blue Port aller Wahrscheinlichkeit nach vor der Hamburger Elbphilharmonie begleiten. \nKleine Speisen und verschiedene Getränke sind an Bord gemäß Tageskarte erhältlich und nicht im oben genannten Preis inbegriffen. \nTicketservice\nDie Versandgebühr beträgt Euro 3\,00 pro Auftrag. \nProgrammänderungen Seitens des Veranstalters der Hmaburg Cruise Days 2022 stets vorbehalten. Es gelten die zum Zeitpunkt der Veranstaltung gültigen Regeln einer Allgemeinverfügung im Rahmen der COVID-19 Pandemie. Sollte die Veranstaltung nicht durchführbar sein\, werden Sie rechtzeitig informiert / Stand 06.2022.
URL:https://umzug.devfabrik.de/event/grosses-light-up-eroeffnung-blue-port-2022/
LOCATION:Überseebrücke / Brandenburger Hafen (U3 Baumwall)\, Überseebrücke\, Hamburg\, 20459\, Deutschland
CATEGORIES:Veranstaltungen
ATTACH;FMTTYPE=image/jpeg:https://umzug.devfabrik.de/wp-content/uploads/2020/07/lichterfahrt-stadtrundfahrt.jpg
ORGANIZER;CN="Rainer%20Abicht%20%E2%80%93%20Elbreederei%20GmbH%20%26%20Co.%20KG":MAILTO:kontakt@abicht.de
END:VEVENT
END:VCALENDAR