BEGIN:VCALENDAR
VERSION:2.0
PRODID:-//Abicht | Hafenrundfahrten Hamburg - Schiffe chartern - Barkassenfahrt - ECPv5.16.0//NONSGML v1.0//EN
CALSCALE:GREGORIAN
METHOD:PUBLISH
X-WR-CALNAME:Abicht | Hafenrundfahrten Hamburg - Schiffe chartern - Barkassenfahrt
X-ORIGINAL-URL:https://umzug.devfabrik.de
X-WR-CALDESC:Veranstaltungen für Abicht | Hafenrundfahrten Hamburg - Schiffe chartern - Barkassenfahrt
BEGIN:VTIMEZONE
TZID:Europe/Berlin
BEGIN:DAYLIGHT
TZOFFSETFROM:+0100
TZOFFSETTO:+0200
TZNAME:CEST
DTSTART:20230326T010000
END:DAYLIGHT
BEGIN:STANDARD
TZOFFSETFROM:+0200
TZOFFSETTO:+0100
TZNAME:CET
DTSTART:20231029T010000
END:STANDARD
END:VTIMEZONE
BEGIN:VEVENT
DTSTART;TZID=Europe/Berlin:20230218T190000
DTEND;TZID=Europe/Berlin:20230218T220000
DTSTAMP:20260422T140446
CREATED:20221103T134345Z
LAST-MODIFIED:20221105T121912Z
UID:4688-1676746800-1676757600@umzug.devfabrik.de
SUMMARY:Großes Schlachtfest mit DIE MELKER
DESCRIPTION:EVENTINFO:\nAn Bord unseres Schaufelradschiffes LOUISIANA STAR erwartet Sie während unserer 3-stündigen wunderschönen Elbe- und Hafenfahrt ein leckeres rustikales Schlachtfestbüffet „All you can eat“. \nWeitere Getränke können laut Bordkarte gegen Barzahlung erworben werden. Der Ordnung halber weisen wir darauf hin\, dass das Einbringen eigener Speisen und Getränke nicht gestattet ist. \nFür musikalische Unterhaltung an Bord sorgen Die Melker – die gute Laune Garantie! \n\nAlfred\, Hans\, Peter & Guillermo präsentieren die wahre Geschichte des Rock‘n‘Roll -Songs und Enthüllungen von und über Elvis\, Rod Stewart\, Howard Carpendale\, die Beatles u.v.a.\, dazu Erinnerungen an die gute alte Zeit des Dorf-Rock: \n\n„Was macht der Schwarzenegger da unter meinem Trecker?“.\n\n„Help me melken“ heißt ihr heimlicher Hit. Ebenfalls hitverdächtig: „Wir haben Gülle in Hülle und Fülle“. \n\n\nDazu legen die Melker eine heiße Gummistiefelsohle auf‘s Parkett\, getreu ihrem Motto: „Dorfrock – frisch von der Weide!“ \nTicketservice\nDie Versandgebühr beträgt Euro 3\,00 pro Auftrag. \n\nProgrammänderungen vorbehalten. Es gelten die zum Zeitpunkt der Veranstaltung gültigen Regeln einer Allgemeinverfügung im Rahmen der COVID-19 Pandemie. \nSollte die Veranstaltung nicht durchführbar sein\, werden Sie rechtzeitig informiert.
URL:https://umzug.devfabrik.de/event/grosses-schlachtfest-mit-die-melker-3/
LOCATION:St. Pauli Landungsbrücken\, Brücke 4-10\, St. Pauli Landungsbrücken\, Brücke 4-10\, Hamburg\, 20359\, Deutschland
CATEGORIES:Veranstaltungen
ATTACH;FMTTYPE=image/jpeg:https://umzug.devfabrik.de/wp-content/uploads/2018/05/2017-DIe-Melker_2.jpg
ORGANIZER;CN="Rainer%20Abicht%20%E2%80%93%20Elbreederei%20GmbH%20%26%20Co.%20KG":MAILTO:kontakt@abicht.de
END:VEVENT
END:VCALENDAR