BEGIN:VCALENDAR
VERSION:2.0
PRODID:-//Abicht | Hafenrundfahrten Hamburg - Schiffe chartern - Barkassenfahrt - ECPv5.16.0//NONSGML v1.0//EN
CALSCALE:GREGORIAN
METHOD:PUBLISH
X-WR-CALNAME:Abicht | Hafenrundfahrten Hamburg - Schiffe chartern - Barkassenfahrt
X-ORIGINAL-URL:https://umzug.devfabrik.de
X-WR-CALDESC:Veranstaltungen für Abicht | Hafenrundfahrten Hamburg - Schiffe chartern - Barkassenfahrt
BEGIN:VTIMEZONE
TZID:Europe/Berlin
BEGIN:DAYLIGHT
TZOFFSETFROM:+0100
TZOFFSETTO:+0200
TZNAME:CEST
DTSTART:20220327T010000
END:DAYLIGHT
BEGIN:STANDARD
TZOFFSETFROM:+0200
TZOFFSETTO:+0100
TZNAME:CET
DTSTART:20221030T010000
END:STANDARD
END:VTIMEZONE
BEGIN:VEVENT
DTSTART;TZID=Europe/Berlin:20220820T213000
DTEND;TZID=Europe/Berlin:20220820T233000
DTSTAMP:20260422T145428
CREATED:20220820T081201Z
LAST-MODIFIED:20220820T101900Z
UID:4560-1661031000-1661038200@umzug.devfabrik.de
SUMMARY:Hamburg Cruise Days pur 2022 - Abendliche Fahrt
DESCRIPTION:Wir empfehlen  aufgrund des zu erwartenden erhöhten Gästeaufkommens zu den Hamburg Cruise Days pur 2022 für die Anreise zu den Liegeplätzen unserer Schiffe ausreichend Zeit einzuplanen. \n„Pas de Deux“: das Highlight am Samstagabend \nHöhepunkt des Wochenendes wird die Inszenierung am Samstagabend\, die ganz im Zeichen der Begegnung steht: Statt der traditionellen Parade werden in diesem Jahr zwei imposante Kreuzfahrtschiffe – AIDAprima und MSC Magnifica – vor den Landungsbrücken multimedial in Szene gesetzt. Veranstalter Uwe Bergmann: „Mit der Inszenierung wollen wir eine Geschichte erzählen\, die als Botschaft an die Hamburger:innen\, die Tourist:innen und die Branche zu verstehen ist\, die Vorfreude weckt auf das nächste planmäßige Event in 2023 und Hoffnung macht auf bessere\, unbeschwerte Zeiten. Quelle: Pressemitteilung www.hamburgcruisedays.de \n2 – Stunden Elbefahrt auf unseren schönen Salonschiff CONCORDIA anlässlich des „Pas de Deux“ der Kreuzfahrtschiffe.\n \nAn Bord (im Salon und auf dem großzügigen Freideck) haben Sie freie Platzwahl. Aus organisatorischen Gründen sind keine Platzreservierungen an Bord möglich – wir danken für Ihr Verständnis. \nInkl. einem Getränk zur Begrüßung. Unsere Bordgastronomie hält weitere Getränke und kleine Snacks bereit. Diese sind nicht im Preis inbegriffen. \nTicketservice\nDie Versandgebühr beträgt Euro 3\,00 pro Auftrag. \nProgrammänderungen Seitens des Veranstalters der Hmaburg Cruise Days 2022 stets vorbehalten. Es gelten die zum Zeitpunkt der Veranstaltung gültigen Regeln einer Allgemeinverfügung im Rahmen der COVID-19 Pandemie. Sollte die Veranstaltung nicht durchführbar sein\, werden Sie rechtzeitig informiert / Stand 08.2022.
URL:https://umzug.devfabrik.de/event/hamburg-cruise-days-pur-2022-abendliche-fahrt-2/
LOCATION:Überseebrücke / Brandenburger Hafen (U3 Baumwall)\, Überseebrücke\, Hamburg\, 20459\, Deutschland
CATEGORIES:Veranstaltungen
ATTACH;FMTTYPE=image/jpeg:https://umzug.devfabrik.de/wp-content/uploads/2018/06/EVE_022_q_002.jpg
ORGANIZER;CN="Rainer%20Abicht%20%E2%80%93%20Elbreederei%20GmbH%20%26%20Co.%20KG":MAILTO:kontakt@abicht.de
END:VEVENT
END:VCALENDAR