BEGIN:VCALENDAR
VERSION:2.0
PRODID:-//Abicht | Hafenrundfahrten Hamburg - Schiffe chartern - Barkassenfahrt - ECPv5.16.0//NONSGML v1.0//EN
CALSCALE:GREGORIAN
METHOD:PUBLISH
X-WR-CALNAME:Abicht | Hafenrundfahrten Hamburg - Schiffe chartern - Barkassenfahrt
X-ORIGINAL-URL:https://umzug.devfabrik.de
X-WR-CALDESC:Veranstaltungen für Abicht | Hafenrundfahrten Hamburg - Schiffe chartern - Barkassenfahrt
BEGIN:VTIMEZONE
TZID:Europe/Berlin
BEGIN:DAYLIGHT
TZOFFSETFROM:+0100
TZOFFSETTO:+0200
TZNAME:CEST
DTSTART:20220327T010000
END:DAYLIGHT
BEGIN:STANDARD
TZOFFSETFROM:+0200
TZOFFSETTO:+0100
TZNAME:CET
DTSTART:20221030T010000
END:STANDARD
END:VTIMEZONE
BEGIN:VEVENT
DTSTART;TZID=Europe/Berlin:20220918T144500
DTEND;TZID=Europe/Berlin:20220918T164500
DTSTAMP:20260422T145213
CREATED:20220506T135040Z
LAST-MODIFIED:20220506T140140Z
UID:4234-1663512300-1663519500@umzug.devfabrik.de
SUMMARY:Hamburger Hafengeburtstag - Begleitfahrt Auslaufparade
DESCRIPTION:Nach ereignisreichen Tagen naht nun wieder das Ende des Hafengeburtstages. \nDiesen Abschluss bildet traditionell die große Windjammer- und Auslaufparade\, bei der sich die Windjammer sowie alle anderen Schiffe während der großen Parade vom Hamburger Hafen verabschieden. \nKommen Sie zu uns an Bord unseres Schaufelradschiffes LOUISIANA STAR zu dieser 2-stündigen Begleitfahrt\, die Ihnen die Möglichkeit bietet\, noch einmal einen entspannten Blick auf die Schiffe sowie das bunte Treiben an den Ufern zu werfen und mit uns den Hamburger Hafengeburtstag gemütlich ausklingen zu lassen. \nGastronomie\nKleine Speisen und verschiedene Getränke sind an Bord gemäß Tageskarte gegen Bezahlung (Bar / EC) erhältlich. Der Ordnung halber weisen wir darauf hin\, dass das Einbringen eigener Speisen und Getränke nicht gestattet ist. \nZeitliche Änderungen sowie Programmänderungen behalten wir uns vor. \nTicketservice\nDie Versandgebühr beträgt Euro 3\,00 pro Auftrag. \nHinweis: Im Bereich der St. Pauli Landungsbrücken kann es laut Weisung des Oberhafenamtes zu Schifffahrtspolizeilichen Sperrungen kommen.\n \nEs gelten die zum Zeitpunkt der Veranstaltung gültigen Regeln einer Allgemeinverfügung im Rahmen der COVID-19 Pandemie.\nÄnderungen vorbehalten (Stand 05/2022).
URL:https://umzug.devfabrik.de/event/hamburger-hafengeburtstag-begleitfahrt-auslaufparade-2/
LOCATION:Anleger Sandtorhöft (Kehrwiederspitze)\, Niederhafen\, Hamburg\, 20457\, Deutschland
CATEGORIES:Veranstaltungen
ATTACH;FMTTYPE=image/jpeg:https://umzug.devfabrik.de/wp-content/uploads/2018/10/100515_N_0644.jpg
ORGANIZER;CN="Rainer%20Abicht%20%E2%80%93%20Elbreederei%20GmbH%20%26%20Co.%20KG":MAILTO:kontakt@abicht.de
END:VEVENT
END:VCALENDAR