BEGIN:VCALENDAR
VERSION:2.0
PRODID:-//Abicht | Hafenrundfahrten Hamburg - Schiffe chartern - Barkassenfahrt - ECPv5.16.0//NONSGML v1.0//EN
CALSCALE:GREGORIAN
METHOD:PUBLISH
X-WR-CALNAME:Abicht | Hafenrundfahrten Hamburg - Schiffe chartern - Barkassenfahrt
X-ORIGINAL-URL:https://umzug.devfabrik.de
X-WR-CALDESC:Veranstaltungen für Abicht | Hafenrundfahrten Hamburg - Schiffe chartern - Barkassenfahrt
BEGIN:VTIMEZONE
TZID:Europe/Berlin
BEGIN:DAYLIGHT
TZOFFSETFROM:+0100
TZOFFSETTO:+0200
TZNAME:CEST
DTSTART:20230326T010000
END:DAYLIGHT
BEGIN:STANDARD
TZOFFSETFROM:+0200
TZOFFSETTO:+0100
TZNAME:CET
DTSTART:20231029T010000
END:STANDARD
END:VTIMEZONE
BEGIN:VEVENT
DTSTART;TZID=Europe/Berlin:20230505T143000
DTEND;TZID=Europe/Berlin:20230505T163000
DTSTAMP:20260424T124020
CREATED:20221206T111758Z
LAST-MODIFIED:20221230T115045Z
UID:4842-1683297000-1683304200@umzug.devfabrik.de
SUMMARY:Hamburger Hafengeburtstag - Begleitfahrt Einlaufparade
DESCRIPTION:Das ultimativ maritime Erlebnis zur Eröffnung des Hamburger Hafengeburtstages. \nErleben Sie von unserem Schaufelradschiff MS LOUISIANA STAR aus das Formieren sowie die große Einlaufparade der Windjammer und aller anderen Gastschiffe zu Eröffnung des Hamburger Hafengeburtstages. \nVon den großzügigen Freidecks aus haben Sie den perfekten Ausblick auf die teilnehmenden Schiffe dieser unvergleichlichen Parade. \nGastronomie\nKleine Speisen & verschiedene Getränke sind gemäß Tageskarte gegen Bezahlung (Bar / EC) an Bord erhältlich.\nDer Ordnung halber weisen wir darauf hin\, dass das Einbringen eigener Speisen und Getränke nicht gestattet ist. \nZeitliche Änderungen sowie Programmänderungen behalten wir uns vor. \nTicketservice\nDie Versandgebühr beträgt Euro 3\,00 pro Auftrag. \nHinweis: Im Bereich der St. Pauli Landungsbrücken kann es laut Weisung des Oberhafenamtes zu Schifffahrtspolizeilichen Sperrungen kommen. \nEs gelten die zum Zeitpunkt der Veranstaltung gültigen Regeln einer Allgemeinverfügung im Rahmen der COVID-19 Pandemie.\nÄnderungen vorbehalten (Stand 12/2022).
URL:https://umzug.devfabrik.de/event/hamburger-hafengeburtstag-begleitfahrt-einlaufparade-5/
LOCATION:Anleger Sandtorhöft (Kehrwiederspitze)\, Niederhafen\, Hamburg\, 20457\, Deutschland
CATEGORIES:Veranstaltungen
ATTACH;FMTTYPE=image/jpeg:https://umzug.devfabrik.de/wp-content/uploads/2018/10/100515_N_0644.jpg
ORGANIZER;CN="Rainer%20Abicht%20%E2%80%93%20Elbreederei%20GmbH%20%26%20Co.%20KG":MAILTO:kontakt@abicht.de
END:VEVENT
END:VCALENDAR