BEGIN:VCALENDAR
VERSION:2.0
PRODID:-//Abicht | Hafenrundfahrten Hamburg - Schiffe chartern - Barkassenfahrt - ECPv5.16.0//NONSGML v1.0//EN
CALSCALE:GREGORIAN
METHOD:PUBLISH
X-WR-CALNAME:Abicht | Hafenrundfahrten Hamburg - Schiffe chartern - Barkassenfahrt
X-ORIGINAL-URL:https://umzug.devfabrik.de
X-WR-CALDESC:Veranstaltungen für Abicht | Hafenrundfahrten Hamburg - Schiffe chartern - Barkassenfahrt
BEGIN:VTIMEZONE
TZID:Europe/Berlin
BEGIN:DAYLIGHT
TZOFFSETFROM:+0100
TZOFFSETTO:+0200
TZNAME:CEST
DTSTART:20220327T010000
END:DAYLIGHT
BEGIN:STANDARD
TZOFFSETFROM:+0200
TZOFFSETTO:+0100
TZNAME:CET
DTSTART:20221030T010000
END:STANDARD
END:VTIMEZONE
BEGIN:VEVENT
DTSTART;TZID=Europe/Berlin:20220917T203000
DTEND;TZID=Europe/Berlin:20220917T223000
DTSTAMP:20260424T112204
CREATED:20220908T132155Z
LAST-MODIFIED:20220909T112605Z
UID:4591-1663446600-1663453800@umzug.devfabrik.de
SUMMARY:Hamburger Hafengeburtstag - Große Feuerwerksfahrt
DESCRIPTION:Das Highlight jedes Hafengeburtstages ist alljährlich das spektakuläre\, professionelle Feuerwerk\, welches gegen 21.30 Uhr auf Höhe der St. Pauli Landungsbrücken gezündet wird. \nDie Kulisse des imposanten Hafens\, das große Feuerwerk und das Lichtermeer der bunten Meile an Land. Von den großzügigen Freidecks unseres Fahrgastschiffes haben Sie definitiv den schönsten Ausblick auf dieses einmalige Spektakel im Hamburger Hafen. \nAn Bord der MS FANTASIA haben Sie freie Platzwahl! \nGastronomie\nEin Getränk zur Begrüßung pro Person ist bereits im genannten Preis inklusive. \nVerschiedene Getränke sind gemäß Tageskarte an Bord gegen Bezahlung (Bar / EC) erhältlich. Das Einbringen eigener Speisen und Getränke ist nicht gestattet. \nZeitliche Änderungen sowie Programmänderungen behalten wir uns vor. \nTicketservice\nDie Versandgebühr beträgt Euro 3\,00 pro Auftrag. \nHinweis: Im Bereich der St. Pauli Landungsbrücken kann es laut Weisung des Oberhafenamtes zu Schifffahrtspolizeilichen Sperrungen kommen.\n \nEs gelten die zum Zeitpunkt der Veranstaltung gültigen Regeln einer Allgemeinverfügung im Rahmen der COVID-19 Pandemie.\nÄnderungen vorbehalten (Stand 09/2022).
URL:https://umzug.devfabrik.de/event/hamburger-hafengeburtstag-grosse-feuerwerksfahrt-6/
LOCATION:St. Pauli Landungsbrücken\, Brücke 4-10\, St. Pauli Landungsbrücken\, Brücke 4-10\, Hamburg\, 20359\, Deutschland
CATEGORIES:Veranstaltungen
ATTACH;FMTTYPE=image/jpeg:https://umzug.devfabrik.de/wp-content/uploads/2018/10/HG15_Feuerwerk.jpg
ORGANIZER;CN="Rainer%20Abicht%20%E2%80%93%20Elbreederei%20GmbH%20%26%20Co.%20KG":MAILTO:kontakt@abicht.de
END:VEVENT
END:VCALENDAR