BEGIN:VCALENDAR
VERSION:2.0
PRODID:-//Abicht | Hafenrundfahrten Hamburg - Schiffe chartern - Barkassenfahrt - ECPv5.16.0//NONSGML v1.0//EN
CALSCALE:GREGORIAN
METHOD:PUBLISH
X-WR-CALNAME:Abicht | Hafenrundfahrten Hamburg - Schiffe chartern - Barkassenfahrt
X-ORIGINAL-URL:https://umzug.devfabrik.de
X-WR-CALDESC:Veranstaltungen für Abicht | Hafenrundfahrten Hamburg - Schiffe chartern - Barkassenfahrt
BEGIN:VTIMEZONE
TZID:Europe/Berlin
BEGIN:DAYLIGHT
TZOFFSETFROM:+0100
TZOFFSETTO:+0200
TZNAME:CEST
DTSTART:20230326T010000
END:DAYLIGHT
BEGIN:STANDARD
TZOFFSETFROM:+0200
TZOFFSETTO:+0100
TZNAME:CET
DTSTART:20231029T010000
END:STANDARD
END:VTIMEZONE
BEGIN:VEVENT
DTSTART;TZID=Europe/Berlin:20230506T210000
DTEND;TZID=Europe/Berlin:20230506T230000
DTSTAMP:20260420T195226
CREATED:20221029T111509Z
LAST-MODIFIED:20221105T121735Z
UID:4682-1683406800-1683414000@umzug.devfabrik.de
SUMMARY:Hamburger Hafengeburtstag - Große Feuerwerksfahrt
DESCRIPTION:Das Highlight jedes Hafengeburtstages ist alljährlich das spektakuläre\, professionelle Feuerwerk\, welches gegen 22.30 Uhr auf Höhe der St. Pauli Landungsbrücken gezündet wird. \nDie Kulisse des imposanten Hafens\, das große Feuerwerk und das Lichtermeer der bunten Meile an Land. Vom großzügigen Freideck unseres Fahrgastschiffes mit fantastischer Sicht haben Sie definitiv den schönsten Ausblick auf dieses einmalige Spektakel. \nAn Bord der MS ELBKRISTALL haben Sie freie Platzwahl. \nGastronomie\nEin Getränk zur Begrüßung pro Person ist bereits im genannten Preis inklusive. \nKleine Speisen & verschiedene Getränke sind gemäß Tageskarte an Bord erhältlich (nicht im Ticketpreis enthalten). \nDas Einbringen eigener Speisen und Getränke ist nicht gestattet. \nZeitliche Änderungen sowie Programmänderungen behalten wir uns vor. \nTicketservice\nDie Versandgebühr beträgt Euro 3\,00 pro Auftrag. \nHinweis: Im Bereich der St. Pauli Landungsbrücken kann es laut Weisung des Oberhafenamtes zu Schifffahrtspolizeilichen Sperrungen kommen.\n \nProgrammänderungen vorbehalten. Es gelten die zum Zeitpunkt der Veranstaltung gültigen Regeln einer Allgemeinverfügung im Rahmen der COVID-19 Pandemie.  \nSollte die Veranstaltung nicht durchführbar sein\, werden Sie rechtzeitig informiert.
URL:https://umzug.devfabrik.de/event/hamburger-hafengeburtstag-grosse-feuerwerksfahrt-8/
LOCATION:Anleger Sandtorhöft (Kehrwiederspitze)\, Niederhafen\, Hamburg\, 20457\, Deutschland
CATEGORIES:Veranstaltungen
ATTACH;FMTTYPE=image/jpeg:https://umzug.devfabrik.de/wp-content/uploads/2018/10/HG15_Feuerwerk.jpg
ORGANIZER;CN="Rainer%20Abicht%20%E2%80%93%20Elbreederei%20GmbH%20%26%20Co.%20KG":MAILTO:kontakt@abicht.de
END:VEVENT
END:VCALENDAR