BEGIN:VCALENDAR
VERSION:2.0
PRODID:-//Abicht | Hafenrundfahrten Hamburg - Schiffe chartern - Barkassenfahrt - ECPv5.16.0//NONSGML v1.0//EN
CALSCALE:GREGORIAN
METHOD:PUBLISH
X-WR-CALNAME:Abicht | Hafenrundfahrten Hamburg - Schiffe chartern - Barkassenfahrt
X-ORIGINAL-URL:https://umzug.devfabrik.de
X-WR-CALDESC:Veranstaltungen für Abicht | Hafenrundfahrten Hamburg - Schiffe chartern - Barkassenfahrt
BEGIN:VTIMEZONE
TZID:Europe/Berlin
BEGIN:DAYLIGHT
TZOFFSETFROM:+0100
TZOFFSETTO:+0200
TZNAME:CEST
DTSTART:20230326T010000
END:DAYLIGHT
BEGIN:STANDARD
TZOFFSETFROM:+0200
TZOFFSETTO:+0100
TZNAME:CET
DTSTART:20231029T010000
END:STANDARD
END:VTIMEZONE
BEGIN:VEVENT
DTSTART;TZID=Europe/Berlin:20230512T193000
DTEND;TZID=Europe/Berlin:20230512T223000
DTSTAMP:20260420T195029
CREATED:20221129T103749Z
LAST-MODIFIED:20221230T122827Z
UID:4807-1683919800-1683930600@umzug.devfabrik.de
SUMMARY:Jack Flex - Rock 'n' Roll auf der Elbe
DESCRIPTION:JACK FLEX wurde 2008 gegründet und ist eine Rock-Cover-Band aus Salzwedel/ Altmark und Lüchow/ Wendland. Die Band zeigt einen abwechslungsreichen Mix aus klassischen und modernen Rocksongs – handgemacht\, ausdrucksstark\, powervoll. \nDas Publikum spürt sofort\, dass es mit den Musikern aus Niedersachsen und Sachsen-Anhalt immer heiß wird. Und das in jeder Hinsicht – musikalisch und bei Show und Stimmung. \nDas Geheimnis liegt in der außergewöhnlichen Songauswahl und der besonderen Bühnenpräsenz der Bandmitglieder\, die kein Standard-Programm abspielen\, sondern ihre Power aus der Interaktion mit dem Publikum und der Musik ziehen. Wer es beim Konzert gewohnt ist zu sitzen\, den wird es bei dieser Band nicht auf dem Platz halten. Die Band bringt jedes Publikum zum Kochen – Frontmann Tim Kunstmann\, Drummer Harald Faescke\, Bassist Marko Scholz und Gitarrist Stefan Walgenbach sind JACK FLEX. Nach zahlreichen Gigs im gesamten Bundesgebiet erspielte sich Jack Flex den Rang einer der gefragtesten Bands in und um Salzwedel sowie darüber hinaus. Langjährige Bühnenerfahrung\, professionelle Performance und absolute Spielfreude reißen jedes Publikum mit. Egal ob im Club\, kleine Location\, große Hallen oder Open Air – da ist für jeden etwas dabei. Wer schon immer mal wissen wollte\, wieso der Drummer mehrfach im Jahr Geburtstag hat\, wieso Heino das heimliche fünfte Bandmitglied ist und wieso Totenköpfe für besseren Gitarrensound sorgen\, sollte Jack Flex live  gesehen haben! \nZum Repertoire zählen Songs von Künstlern wie\nDie Ärzte\, Beatsteaks\, Green Day\, Sportfreunde Stiller\, Blink 182\, Bruce Springsteen\, CCR\, City\, Clueso\, Dandy Warhols\, Depeche Mode\, Foo Fighters\, Jet\, Keimzeit\, Kings of Leon\, Mando Diao\, Matchbox 20\, Michael Jackson\, Oasis\, Placebo\, Rea Garvey\, Deichkind\, Rio Reiser\, Selig\, The Cure\, The Killers\, The Kooks\, The Subways\, The White Stripes\, Wolfmother und viele andere \nGastronomie\nVerschiedene Getränke können laut Abendkarte an Bord à la carte erworben werden. An Bord der MS HANESATIC haben Sie freie Platzwahl. \n\n\n\n\nTicketservice\nDie Versandgebühr beträgt Euro 3\,00 pro Auftrag. \n\nProgrammänderungen vorbehalten. Es gelten die zum Zeitpunkt der Veranstaltung gültigen Regeln einer Allgemeinverfügung im Rahmen der COVID-19 Pandemie. \nSollte die Veranstaltung nicht durchführbar sein\, werden Sie rechtzeitig informiert.
URL:https://umzug.devfabrik.de/event/jack-flex-rock-n-roll-auf-der-elbe/
LOCATION:St. Pauli Landungsbrücken\, Brücke 4-10\, St. Pauli Landungsbrücken\, Brücke 4-10\, Hamburg\, 20359\, Deutschland
CATEGORIES:Veranstaltungen
ATTACH;FMTTYPE=image/jpeg:https://umzug.devfabrik.de/wp-content/uploads/2022/11/Jack-FlexInstagram_web.jpg
ORGANIZER;CN="Rainer%20Abicht%20%E2%80%93%20Elbreederei%20GmbH%20%26%20Co.%20KG":MAILTO:kontakt@abicht.de
END:VEVENT
END:VCALENDAR