BEGIN:VCALENDAR
VERSION:2.0
PRODID:-//Abicht | Hafenrundfahrten Hamburg - Schiffe chartern - Barkassenfahrt - ECPv5.16.0//NONSGML v1.0//EN
CALSCALE:GREGORIAN
METHOD:PUBLISH
X-WR-CALNAME:Abicht | Hafenrundfahrten Hamburg - Schiffe chartern - Barkassenfahrt
X-ORIGINAL-URL:https://umzug.devfabrik.de
X-WR-CALDESC:Veranstaltungen für Abicht | Hafenrundfahrten Hamburg - Schiffe chartern - Barkassenfahrt
BEGIN:VTIMEZONE
TZID:Europe/Berlin
BEGIN:DAYLIGHT
TZOFFSETFROM:+0100
TZOFFSETTO:+0200
TZNAME:CEST
DTSTART:20230326T010000
END:DAYLIGHT
BEGIN:STANDARD
TZOFFSETFROM:+0200
TZOFFSETTO:+0100
TZNAME:CET
DTSTART:20231029T010000
END:STANDARD
END:VTIMEZONE
BEGIN:VEVENT
DTSTART;TZID=Europe/Berlin:20230325T190000
DTEND;TZID=Europe/Berlin:20230325T223000
DTSTAMP:20260420T200213
CREATED:20221126T135834Z
LAST-MODIFIED:20221227T123036Z
UID:4787-1679770800-1679783400@umzug.devfabrik.de
SUMMARY:Kriminal Dinner - Kreuzfahrt ins Grab
DESCRIPTION:Neuer exklusiver Termin in Hamburg – Unterhaltung vom Feinsten\, präsentiert von der RAINER ABICHT Elbreederei & dem Papiliotheater.\n \n1891\, Irgendwo im Atlantik\nSchlimmer könnte die erste Vergnügungsreise in den Orient kaum enden! Seit Tagen wird der Direktor der Reederei HAPAG spurlos vermisst – hat jemand den charismatischen Kreuzfahrt-Erfinder ins nasse Grab gestoßen? \nMit einem exquisiten Dinner versucht Kapitän Barends die Wogen an Bord zu glätten. Doch der Abend läuft mörderisch aus dem Ruder… \nWillkommen auf der ersten Kreuzfahrt der Geschichte! Erleben Sie Krimi und Dinner im Gedenken an den berühmten Reeder Albert Ballin. \nGroße Geschichte als Kriminal – Dinner in Büffetform inklusive.\nSie erwartet ein außergewöhnliches Dinnererlebnis! Das stolze Salonschiff FANTASIA verwandelt sich in das Dampfschiff AUGUSTE VICTORIA – und bereitet die Bühne für interaktives Theater der Extraklasse. Heute Abend gehören auch Sie zu unseren illustren Reisegästen! \nIm Preis ist die unverwechselbar Show\, die Elbfahrt auf dem Salonschiff FANTASIA\, ein leckeres kalt/warmes Büffet und ein Begrüßungsgetränk inklusive. \nTicketservice\nDie Versandgebühr beträgt Euro 3\,00 pro Auftrag. \nProgrammänderungen vorbehalten. \nEs gelten die zum Zeitpunkt der Veranstaltung gültigen Regeln einer Allgemeinverfügung im Rahmen der COVID-19 Pandemie. Sollte die Veranstaltung nicht durchführbar sein\, werden Sie rechtzeitig informiert. (Stand 12/2022)
URL:https://umzug.devfabrik.de/event/kriminal-dinner-kreuzfahrt-ins-grab-4/
LOCATION:St. Pauli Landungsbrücken\, Brücke 4-10\, St. Pauli Landungsbrücken\, Brücke 4-10\, Hamburg\, 20359\, Deutschland
CATEGORIES:Veranstaltungen
ATTACH;FMTTYPE=image/jpeg:https://umzug.devfabrik.de/wp-content/uploads/2018/06/csm_Logobild_Kreuzfahrt_ins_Grab_8a7b72bc66.jpg
ORGANIZER;CN="Rainer%20Abicht%20%E2%80%93%20Elbreederei%20GmbH%20%26%20Co.%20KG":MAILTO:kontakt@abicht.de
END:VEVENT
END:VCALENDAR