BEGIN:VCALENDAR
VERSION:2.0
PRODID:-//Abicht | Hafenrundfahrten Hamburg - Schiffe chartern - Barkassenfahrt - ECPv5.16.0//NONSGML v1.0//EN
CALSCALE:GREGORIAN
METHOD:PUBLISH
X-WR-CALNAME:Abicht | Hafenrundfahrten Hamburg - Schiffe chartern - Barkassenfahrt
X-ORIGINAL-URL:https://umzug.devfabrik.de
X-WR-CALDESC:Veranstaltungen für Abicht | Hafenrundfahrten Hamburg - Schiffe chartern - Barkassenfahrt
BEGIN:VTIMEZONE
TZID:Europe/Berlin
BEGIN:DAYLIGHT
TZOFFSETFROM:+0100
TZOFFSETTO:+0200
TZNAME:CEST
DTSTART:20230326T010000
END:DAYLIGHT
BEGIN:STANDARD
TZOFFSETFROM:+0200
TZOFFSETTO:+0100
TZNAME:CET
DTSTART:20231029T010000
END:STANDARD
END:VTIMEZONE
BEGIN:VEVENT
DTSTART;TZID=Europe/Berlin:20231027T190000
DTEND;TZID=Europe/Berlin:20231027T223000
DTSTAMP:20260420T195156
CREATED:20221126T135447Z
LAST-MODIFIED:20230111T161720Z
UID:4790-1698433200-1698445800@umzug.devfabrik.de
SUMMARY:Märchen Dinner - Grimms WAHRE Märchen
DESCRIPTION:Unterhaltung vom Feinsten\, präsentiert von der RAINER ABICHT Elbreederei & dem Papiliotheater. \nEs war einmal? Quatsch! Wollen Sie wissen\, was die prüden Gebrüder Grimm uns verschwiegen haben? \nDann wappnen Sie sich lieber gegen eine Attacke auf Ihr Zwerchfell! Drei tollkühne Improvisardeure stellen genüsslich Ihre Lieblingsmärchen auf den Kopf\, bis das coole Rumpelstilzchen das feige Schneiderlein am Schneewittchen packt – und der Spiegel in Therapie muss. \nErleben Sie einen Märchenabend der interaktiven Art mit professionellen SchauspielerInnen\, die in zahllosen Rollen und begnadeten Gäste-Stars den Saal zum Kochen bringen… \nIm Preis ist die unverwechselbar Show\, die Elbfahrt auf dem Salonschiff FANTASIA\, ein leckeres kalt/warmes Büffet und ein Begrüßungsgetränk inklusive. \nTicketservice\nDie Versandgebühr beträgt Euro 3\,00 pro Auftrag. \nProgrammänderungen vorbehalten. \nEs gelten die zum Zeitpunkt der Veranstaltung gültigen Regeln einer Allgemeinverfügung im Rahmen der COVID-19 Pandemie. Sollte die Veranstaltung nicht durchführbar sein\, werden Sie rechtzeitig informiert. (Stand 11/2022)
URL:https://umzug.devfabrik.de/event/kriminal-dinner-mord-in-der-promiklapse-2/
LOCATION:St. Pauli Landungsbrücken\, Brücke 4-10\, St. Pauli Landungsbrücken\, Brücke 4-10\, Hamburg\, 20359\, Deutschland
CATEGORIES:Veranstaltungen
ATTACH;FMTTYPE=image/jpeg:https://umzug.devfabrik.de/wp-content/uploads/2022/11/Schneewittchen-Stickrahmen-Fenster-MAeRCHEN-DINNER-Grimms-WAHRE-Maerchenr.jpg
ORGANIZER;CN="Rainer%20Abicht%20%E2%80%93%20Elbreederei%20GmbH%20%26%20Co.%20KG":MAILTO:kontakt@abicht.de
END:VEVENT
END:VCALENDAR