BEGIN:VCALENDAR
VERSION:2.0
PRODID:-//Abicht | Hafenrundfahrten Hamburg - Schiffe chartern - Barkassenfahrt - ECPv5.16.0//NONSGML v1.0//EN
CALSCALE:GREGORIAN
METHOD:PUBLISH
X-WR-CALNAME:Abicht | Hafenrundfahrten Hamburg - Schiffe chartern - Barkassenfahrt
X-ORIGINAL-URL:https://umzug.devfabrik.de
X-WR-CALDESC:Veranstaltungen für Abicht | Hafenrundfahrten Hamburg - Schiffe chartern - Barkassenfahrt
BEGIN:VTIMEZONE
TZID:Europe/Berlin
BEGIN:DAYLIGHT
TZOFFSETFROM:+0100
TZOFFSETTO:+0200
TZNAME:CEST
DTSTART:20220327T010000
END:DAYLIGHT
BEGIN:STANDARD
TZOFFSETFROM:+0200
TZOFFSETTO:+0100
TZNAME:CET
DTSTART:20221030T010000
END:STANDARD
END:VTIMEZONE
BEGIN:VEVENT
DTSTART;TZID=Europe/Berlin:20220417T110000
DTEND;TZID=Europe/Berlin:20220417T140000
DTSTAMP:20260420T221320
CREATED:20180517T124800Z
LAST-MODIFIED:20220408T125619Z
UID:583-1650193200-1650204000@umzug.devfabrik.de
SUMMARY:Oster-Brunchfahrt am Ostersonntag
DESCRIPTION:EVENTINFO:\nWunderschöne Oster-Brunchfahrt auf unserem Salonschiff FANTASIA. \nGenießen Sie diese wunderschöne Elbe- und Hafenfahrt am Ostersonntag. Die großzügigen Freidecks der MS FANTASIA laden dazu ein\, sich zwischendurch die Füße zu vertreten oder Hafenluft zu schnuppern und die Aussicht zu genießen. Im Preis inbegriffen ist ein leckeres & reichhaltiges Oster-Brunchbüffet mit kalten und warmen Büffetbestandteilen. \nFrisch gebrühter Kaffee und verschiedene Sorten an Tee sowie fruchtigen Orangensaft genießen Sie nach Herzenslust so viel Sie mögen (ebenfalls im Preis inbegriffen). Weitere Getränke und Erfrischungen können an Bord gegen Barzahlung erworben werden. \nDer Ordnung halber weisen wir darauf hin\, dass das Einbringen eigener Speisen und Getränke nicht gestattet ist. \nTicketservice\nDie Versandgebühr beträgt EUR 3\,00 pro Auftrag \nEs gelten die zum Zeitpunkt der Veranstaltung gültigen Regeln einer Allgemeinverfügung im Rahmen der COVID-19 Pandemie.\nÄnderungen vorbehalten (Stand 04/2021).
URL:https://umzug.devfabrik.de/event/oster-brunchfahrt-am-ostersonntag/
LOCATION:Überseebrücke / Brandenburger Hafen (U3 Baumwall)\, Überseebrücke\, Hamburg\, 20459\, Deutschland
CATEGORIES:Veranstaltungen
ATTACH;FMTTYPE=image/jpeg:https://umzug.devfabrik.de/wp-content/uploads/2019/02/Brunch_shutterstock_10201315241.jpg
ORGANIZER;CN="Rainer%20Abicht%20%E2%80%93%20Elbreederei%20GmbH%20%26%20Co.%20KG":MAILTO:kontakt@abicht.de
END:VEVENT
END:VCALENDAR