BEGIN:VCALENDAR
VERSION:2.0
PRODID:-//Abicht | Hafenrundfahrten Hamburg - Schiffe chartern - Barkassenfahrt - ECPv5.16.0//NONSGML v1.0//EN
CALSCALE:GREGORIAN
METHOD:PUBLISH
X-WR-CALNAME:Abicht | Hafenrundfahrten Hamburg - Schiffe chartern - Barkassenfahrt
X-ORIGINAL-URL:https://umzug.devfabrik.de
X-WR-CALDESC:Veranstaltungen für Abicht | Hafenrundfahrten Hamburg - Schiffe chartern - Barkassenfahrt
BEGIN:VTIMEZONE
TZID:Europe/Berlin
BEGIN:DAYLIGHT
TZOFFSETFROM:+0100
TZOFFSETTO:+0200
TZNAME:CEST
DTSTART:20220327T010000
END:DAYLIGHT
BEGIN:STANDARD
TZOFFSETFROM:+0200
TZOFFSETTO:+0100
TZNAME:CET
DTSTART:20221030T010000
END:STANDARD
END:VTIMEZONE
BEGIN:VEVENT
DTSTART;TZID=Europe/Berlin:20220416T200000
DTEND;TZID=Europe/Berlin:20220416T230000
DTSTAMP:20260420T163239
CREATED:20180517T123534Z
LAST-MODIFIED:20210505T104512Z
UID:574-1650139200-1650150000@umzug.devfabrik.de
SUMMARY:Osterparty "Twist & Shout" - Suzie & The Seniors
DESCRIPTION:EVENTINFO:\n2005 gründeten die Mitglieder der bekannten Hamburger Rock‘n‘Roll Band Franny & The Fireballs eine Beatband: Suzie & The Seniors. \nMit einem einmalig authentischen Repertoire der großen 60‘s Hits von den Beatles\, Searchers\, Rolling Stones\, Hollies\, Tremeloes\, Monkees u.v.a.m. verwandeln Suzie & The Seniors garantiert jede Location in einen stampfenden\, kochenden Beatkeller. \nEin Feuerwerk der Nr.1 Hits! Jetzt geht die Party richtig los! Suzie & The Seniors bringen den Beat zurück! \nAb 19:00 Uhr können Sie bereits an Bord kommen! \nDie Fahrt führt in Richtung der großen öffentlichen Osterfeuer entlang des Elbstrandes in Övelgönne bis nach Blankenese. \nDas Team unserer Bordgastronomie hält für Sie kleine Speisen und verschiedene Getränke an Bord bereit\, welche Sie gegen Barzahlung erwerben können. \nDer Ordnung halber weisen wir darauf hin\, dass das Mitbringen eigener Speisen und Getränke nicht gestattet ist. \n\nTicketservice\nDie Versandgebühr beträgt EUR 3\,00 pro Auftrag \nDie RAINER ABICHT Elbreederei hat keinen Einfluss auf das behördliche Genehmigungsverfahren bezüglich des Entzündens der Osterfeuer. \nEs gelten die zum Zeitpunkt der Veranstaltung gültigen Regeln einer Allgemeinverfügung im Rahmen der COVID-19 Pandemie. Änderungen vorbehalten (Stand 04/2021).
URL:https://umzug.devfabrik.de/event/osterparty-twist-shout/
LOCATION:Überseebrücke / Brandenburger Hafen (U3 Baumwall)\, Überseebrücke\, Hamburg\, 20459\, Deutschland
CATEGORIES:Veranstaltungen
ATTACH;FMTTYPE=image/jpeg:https://umzug.devfabrik.de/wp-content/uploads/2018/05/SuzieSeniors_2018-02-800_600.jpg
ORGANIZER;CN="Rainer%20Abicht%20%E2%80%93%20Elbreederei%20GmbH%20%26%20Co.%20KG":MAILTO:kontakt@abicht.de
END:VEVENT
END:VCALENDAR