BEGIN:VCALENDAR
VERSION:2.0
PRODID:-//Abicht | Hafenrundfahrten Hamburg - Schiffe chartern - Barkassenfahrt - ECPv5.16.0//NONSGML v1.0//EN
CALSCALE:GREGORIAN
METHOD:PUBLISH
X-WR-CALNAME:Abicht | Hafenrundfahrten Hamburg - Schiffe chartern - Barkassenfahrt
X-ORIGINAL-URL:https://umzug.devfabrik.de
X-WR-CALDESC:Veranstaltungen für Abicht | Hafenrundfahrten Hamburg - Schiffe chartern - Barkassenfahrt
BEGIN:VTIMEZONE
TZID:Europe/Berlin
BEGIN:DAYLIGHT
TZOFFSETFROM:+0100
TZOFFSETTO:+0200
TZNAME:CEST
DTSTART:20220327T010000
END:DAYLIGHT
BEGIN:STANDARD
TZOFFSETFROM:+0200
TZOFFSETTO:+0100
TZNAME:CET
DTSTART:20221030T010000
END:STANDARD
BEGIN:DAYLIGHT
TZOFFSETFROM:+0100
TZOFFSETTO:+0200
TZNAME:CEST
DTSTART:20230326T010000
END:DAYLIGHT
BEGIN:STANDARD
TZOFFSETFROM:+0200
TZOFFSETTO:+0100
TZNAME:CET
DTSTART:20231029T010000
END:STANDARD
END:VTIMEZONE
BEGIN:VEVENT
DTSTART;TZID=Europe/Berlin:20221231T230000
DTEND;TZID=Europe/Berlin:20230101T010000
DTSTAMP:20260422T123723
CREATED:20191026T101336Z
LAST-MODIFIED:20221230T082107Z
UID:2307-1672527600-1672534800@umzug.devfabrik.de
SUMMARY:Silvester Barkassenfahrt zum Jahreswechsel
DESCRIPTION:Erleben Sie das faszinierende Feuerwerk zum Jahreswechsel direkt vom Wasser aus. Mit einer unserer schönen maritimen Barkassen bringen wir Sie hinaus auf die Elbe – von hier aus haben Sie den schönsten Ausblick auf die St. Pauli Landungsbrücken sowie die imposante Skyline von Hamburg. \nUnser Angebot\n2-Stunden Silvesterfahrt mit unseren maritimen Traditionsbarkassen durch den stimmungsvollen Hamburger Hafen und natürlich zum Feuerwerk um Mitternacht. \nAuf unseren Barkassen haben Sie freie Platzwahl. Wir empfehlen Ihnen Aufgrund der Bauart unserer Traditionsbarkassen warme Kleidung\, da nicht alle Barkassen beheizt sind. \nUnter dem Menüpunkt „Flotte anschauen“ auf www.abicht.de geben wir Ihnen gerne einen Überblick über die Schiffe unserer Flotte. \nVerschiedene Getränke sind vor der Abfahrt am Einstiegsort erhältlich. Das Mitbringen eigener Speisen und Getränke ist nicht gestattet. \nTicketservice\nDie Versandgebühr beträgt Euro 3\,00 pro Auftrag. \nProgrammänderungen vorbehalten. Es gelten die zum Zeitpunkt der Veranstaltung gültigen Regeln einer Allgemeinverfügung im Rahmen der COVID-19 Pandemie. Sollte die Veranstaltung nicht durchführbar sein\, werden Sie rechtzeitig informiert.
URL:https://umzug.devfabrik.de/event/silvester-barkassenfahrt-zum-jahreswechsel-2/
LOCATION:St. Pauli Landungsbrücken\, Brücke 1\, St. Pauli Landungsbrücken\, Brücke 1\, Hamburg\, 20359\, Deutschland
CATEGORIES:Veranstaltungen
ATTACH;FMTTYPE=image/jpeg:https://umzug.devfabrik.de/wp-content/uploads/2022/04/782214271-huge-SIlvester-Uhrenturm-LDBR-klein.jpg
ORGANIZER;CN="Rainer%20Abicht%20%E2%80%93%20Elbreederei%20GmbH%20%26%20Co.%20KG":MAILTO:kontakt@abicht.de
END:VEVENT
END:VCALENDAR