BEGIN:VCALENDAR
VERSION:2.0
PRODID:-//Abicht | Hafenrundfahrten Hamburg - Schiffe chartern - Barkassenfahrt - ECPv5.16.0//NONSGML v1.0//EN
CALSCALE:GREGORIAN
METHOD:PUBLISH
X-WR-CALNAME:Abicht | Hafenrundfahrten Hamburg - Schiffe chartern - Barkassenfahrt
X-ORIGINAL-URL:https://umzug.devfabrik.de
X-WR-CALDESC:Veranstaltungen für Abicht | Hafenrundfahrten Hamburg - Schiffe chartern - Barkassenfahrt
BEGIN:VTIMEZONE
TZID:Europe/Berlin
BEGIN:DAYLIGHT
TZOFFSETFROM:+0100
TZOFFSETTO:+0200
TZNAME:CEST
DTSTART:20220327T010000
END:DAYLIGHT
BEGIN:STANDARD
TZOFFSETFROM:+0200
TZOFFSETTO:+0100
TZNAME:CET
DTSTART:20221030T010000
END:STANDARD
BEGIN:DAYLIGHT
TZOFFSETFROM:+0100
TZOFFSETTO:+0200
TZNAME:CEST
DTSTART:20230326T010000
END:DAYLIGHT
BEGIN:STANDARD
TZOFFSETFROM:+0200
TZOFFSETTO:+0100
TZNAME:CET
DTSTART:20231029T010000
END:STANDARD
END:VTIMEZONE
BEGIN:VEVENT
DTSTART;TZID=Europe/Berlin:20221231T220000
DTEND;TZID=Europe/Berlin:20230101T010000
DTSTAMP:20260420T194905
CREATED:20221213T133713Z
LAST-MODIFIED:20221219T100654Z
UID:4866-1672524000-1672534800@umzug.devfabrik.de
SUMMARY:Silvester Tanzparty
DESCRIPTION:Tanzen Sie in das neue Jahr und erleben Sie das Feuerwerk aus der ersten Reihe! \nUnser Angebot:\n3 Stunden Elbefahrt im Hamburger Hafen mit dem Fahrgastschiff MS CONCORDIA inkl. einem leckeren Begrüßungsgetränk. Tanzmusik der 80er und 90er und das Beste von heute vom DJ\, der natürlich auch Ihre Musikwünsche erfüllt \nAuf dem geräumigen Freideck haben Sie außerdem „Logenplätze“ für den herrlichen Ausblick auf das faszinierende Feuerwerk zum Jahreswechsel über dem Hafen und der Skyline Hamburgs. \nGastronomie\nSpeisen und Getränke sind an Bord gemäß Tageskarte erhältlich. \nTicketservice\nDie Versandgebühr beträgt Euro 3\,00 pro Auftrag. \nProgrammänderungen vorbehalten. Es gelten die zum Zeitpunkt der Veranstaltung gültigen Regeln einer Allgemeinverfügung im Rahmen der COVID-19 Pandemie. Sollte die Veranstaltung nicht durchführbar sein\, werden Sie rechtzeitig informiert.
URL:https://umzug.devfabrik.de/event/silvester-tanzparty/
LOCATION:Überseebrücke / Brandenburger Hafen (U3 Baumwall)\, Überseebrücke\, Hamburg\, 20459\, Deutschland
CATEGORIES:Veranstaltungen
ATTACH;FMTTYPE=image/jpeg:https://umzug.devfabrik.de/wp-content/uploads/2018/07/Bordparty_Abicht_Klein.jpg
ORGANIZER;CN="Rainer%20Abicht%20%E2%80%93%20Elbreederei%20GmbH%20%26%20Co.%20KG":MAILTO:kontakt@abicht.de
END:VEVENT
END:VCALENDAR