BEGIN:VCALENDAR
VERSION:2.0
PRODID:-//Abicht | Hafenrundfahrten Hamburg - Schiffe chartern - Barkassenfahrt - ECPv5.16.0//NONSGML v1.0//EN
CALSCALE:GREGORIAN
METHOD:PUBLISH
X-WR-CALNAME:Abicht | Hafenrundfahrten Hamburg - Schiffe chartern - Barkassenfahrt
X-ORIGINAL-URL:https://umzug.devfabrik.de
X-WR-CALDESC:Veranstaltungen für Abicht | Hafenrundfahrten Hamburg - Schiffe chartern - Barkassenfahrt
BEGIN:VTIMEZONE
TZID:Europe/Berlin
BEGIN:DAYLIGHT
TZOFFSETFROM:+0100
TZOFFSETTO:+0200
TZNAME:CEST
DTSTART:20220327T010000
END:DAYLIGHT
BEGIN:STANDARD
TZOFFSETFROM:+0200
TZOFFSETTO:+0100
TZNAME:CET
DTSTART:20221030T010000
END:STANDARD
BEGIN:DAYLIGHT
TZOFFSETFROM:+0100
TZOFFSETTO:+0200
TZNAME:CEST
DTSTART:20230326T010000
END:DAYLIGHT
BEGIN:STANDARD
TZOFFSETFROM:+0200
TZOFFSETTO:+0100
TZNAME:CET
DTSTART:20231029T010000
END:STANDARD
END:VTIMEZONE
BEGIN:VEVENT
DTSTART;TZID=Europe/Berlin:20221231T223000
DTEND;TZID=Europe/Berlin:20230101T010000
DTSTAMP:20260422T122628
CREATED:20221027T120608Z
LAST-MODIFIED:20221108T110628Z
UID:4640-1672525800-1672534800@umzug.devfabrik.de
SUMMARY:Silvesterfahrt zum Jahreswechsel
DESCRIPTION:Erleben Sie das faszinierende Feuerwerk zum Jahreswechsel direkt vom Wasser aus. Mit unserem komfortablen Fahrgastschiff bringen wir Sie hinaus auf die Elbe\, von wo Sie den schönsten Ausblick auf die St. Pauli Landungsbrücken sowie die Skyline von Hamburg haben. Sie erhalten im beheizten Salon reservierte Plätze an Tischen mit Polsterstühlen. \nErleben Sie an Bord das imposante das Feuerwerk um Mitternacht über Hamburg – ein perfekter Start ins neue Jahr. \nUnser Angebot\n2\, 5 Stunden Elbefahrt mit unserem komfortablen Salonschiff ELBKRISTALL. \nReservierte Plätze an Bord an Tischen mit Polsterstühlen. \nUnser Team der Gastronomie hält verschiedene Getränke und kleine Speisen an Bord für Sie bereit (nicht im Ticketpreis enthalten). \nTicketservice\nDie Versandgebühr beträgt Euro 3\,00 pro Auftrag. \nProgrammänderungen vorbehalten. Es gelten die zum Zeitpunkt der Veranstaltung gültigen Regeln einer Allgemeinverfügung im Rahmen der COVID-19 Pandemie. Sollte die Veranstaltung nicht durchführbar sein\, werden Sie rechtzeitig informiert.
URL:https://umzug.devfabrik.de/event/silvesterfahrt-zum-jahreswechsel-4/
LOCATION:Überseebrücke / Brandenburger Hafen (U3 Baumwall)\, Überseebrücke\, Hamburg\, 20459\, Deutschland
CATEGORIES:Veranstaltungen
ATTACH;FMTTYPE=image/jpeg:https://umzug.devfabrik.de/wp-content/uploads/2022/04/782214271-huge-SIlvester-Uhrenturm-LDBR-klein.jpg
ORGANIZER;CN="Rainer%20Abicht%20%E2%80%93%20Elbreederei%20GmbH%20%26%20Co.%20KG":MAILTO:kontakt@abicht.de
END:VEVENT
END:VCALENDAR