BEGIN:VCALENDAR
VERSION:2.0
PRODID:-//Abicht | Hafenrundfahrten Hamburg - Schiffe chartern - Barkassenfahrt - ECPv5.16.0//NONSGML v1.0//EN
CALSCALE:GREGORIAN
METHOD:PUBLISH
X-WR-CALNAME:Abicht | Hafenrundfahrten Hamburg - Schiffe chartern - Barkassenfahrt
X-ORIGINAL-URL:https://umzug.devfabrik.de
X-WR-CALDESC:Veranstaltungen für Abicht | Hafenrundfahrten Hamburg - Schiffe chartern - Barkassenfahrt
BEGIN:VTIMEZONE
TZID:Europe/Berlin
BEGIN:DAYLIGHT
TZOFFSETFROM:+0100
TZOFFSETTO:+0200
TZNAME:CEST
DTSTART:20220327T010000
END:DAYLIGHT
BEGIN:STANDARD
TZOFFSETFROM:+0200
TZOFFSETTO:+0100
TZNAME:CET
DTSTART:20221030T010000
END:STANDARD
END:VTIMEZONE
BEGIN:VEVENT
DTSTART;TZID=Europe/Berlin:20221216T200000
DTEND;TZID=Europe/Berlin:20221216T230000
DTSTAMP:20260421T082058
CREATED:20220629T130040Z
LAST-MODIFIED:20220708T111955Z
UID:4332-1671220800-1671231600@umzug.devfabrik.de
SUMMARY:THE GOLDEN GATSBY | 20er Jahre Dinner-Show
DESCRIPTION:Wir begrüßen Sie an Bord mit einem leckeren Drink. Kommen Sie mit auf eine unvergessliche glitzernde Zeitreise und erleben Sie das Lebensgefühl unserer neuen\, in Hamburg einmaligen  THE GOLDEN GATSBY  – 20er Jahre Dinnershow. \nDie goldenen Zwanziger …\nDie 20er-Jahre wurden wegen der blühenden und schillernden Kunst- und Kulturszene auch die „Goldenen Zwanziger“ genannt. Eine Zeit von purer Lust am Vergnügen. \nMusik und Tanz …\nGlamour und Glitzer\, Dekadenz und Ausschweifungen – es war die Zeit\, in der Tanzveranstaltungen sehr beliebt waren\, und der JAZZ und CHARLESTON ein ganzes Jahrzehnt prägten. \nDer passende Rahmen …\nWo passt dieser nostalgische Themen-Abend der „Raoring Twenties“ besser hin\, als in das einmalige Ambiente des beeindruckenden Schaufelradschiffes LOUISIANA STAR der RAINER ABICHT Elbreederei. \nEs erwartet Sie ein ganz besonderer Show-Abend mit den berühmtesten Songs dieser Zeit\, wie zum Beispiel „All that Jazz“ und „Big Spender“. \nLive und unverwechselbar präsentiert Ihnen unser unverwechselbares Louisiana-Showensemble die schönsten Glamourmomente an Bord. Wir unterhalten Sie einen Abend lang mit Livegesang – faszinierender Show – Akrobatik. \nIm oben genannten Preis ist die neue unverwechselbare Show\, die Elbfahrt auf dem Schaufelradschiff LOUISIANA STAR sowie ein reichhaltiges kalt/warmes Büffet und ein leckerer Drink zur Begrüßung inklusive. Weitere Getränke erhalten Sie von unserem Serviceteam à la carte. \nEs ist DAS Show-Highlight auf der Elbe im November und Dezember 2022\, auch für Ihre Firmen-\, und Weihnachtsfeier. \nTicketservice\nDie Versandgebühr beträgt Euro 3\,00 pro Auftrag. \nProgrammänderungen vorbehalten. Es gelten die zum Zeitpunkt der Veranstaltung gültigen Regeln einer Allgemeinverfügung im Rahmen der COVID-19 Pandemie. Sollte die Veranstaltung nicht durchführbar sein\, werden Sie rechtzeitig informiert.
URL:https://umzug.devfabrik.de/event/the-golden-gatsby-20er-jahre-dinner-show-4/
LOCATION:Überseebrücke / Brandenburger Hafen (U3 Baumwall)\, Überseebrücke\, Hamburg\, 20459\, Deutschland
CATEGORIES:Veranstaltungen
ATTACH;FMTTYPE=image/jpeg:https://umzug.devfabrik.de/wp-content/uploads/2022/06/The-Golden-Gatsby-shutterstock_1704722692-scaled.jpg
ORGANIZER;CN="Rainer%20Abicht%20%E2%80%93%20Elbreederei%20GmbH%20%26%20Co.%20KG":MAILTO:kontakt@abicht.de
END:VEVENT
END:VCALENDAR