BEGIN:VCALENDAR
VERSION:2.0
PRODID:-//Abicht | Hafenrundfahrten Hamburg - Schiffe chartern - Barkassenfahrt - ECPv5.16.0//NONSGML v1.0//EN
CALSCALE:GREGORIAN
METHOD:PUBLISH
X-WR-CALNAME:Abicht | Hafenrundfahrten Hamburg - Schiffe chartern - Barkassenfahrt
X-ORIGINAL-URL:https://umzug.devfabrik.de
X-WR-CALDESC:Veranstaltungen für Abicht | Hafenrundfahrten Hamburg - Schiffe chartern - Barkassenfahrt
BEGIN:VTIMEZONE
TZID:Europe/Berlin
BEGIN:DAYLIGHT
TZOFFSETFROM:+0100
TZOFFSETTO:+0200
TZNAME:CEST
DTSTART:20220327T010000
END:DAYLIGHT
BEGIN:STANDARD
TZOFFSETFROM:+0200
TZOFFSETTO:+0100
TZNAME:CET
DTSTART:20221030T010000
END:STANDARD
END:VTIMEZONE
BEGIN:VEVENT
DTSTART;TZID=Europe/Berlin:20221218T110000
DTEND;TZID=Europe/Berlin:20221218T140000
DTSTAMP:20260423T110627
CREATED:20220220T094917Z
LAST-MODIFIED:20220223T130053Z
UID:4065-1671361200-1671372000@umzug.devfabrik.de
SUMMARY:Vorweihnachtliche Advents-Brunchfahrt am vierten Adventssonntag
DESCRIPTION:Wunderschöne vorweihnachtliche Advents-Brunchfahrt auf unserem Salonschiff MS HANSE STAR. \nGenießen Sie diese wunderschöne Elbe- und Hafenfahrt am ersten Advent. Die großzügigen Freidecks der MS HANSE STAR laden dazu ein\, sich zwischendurch die Füße zu vertreten oder die winterliche Hafenluft zu schnuppern und die Aussicht zu genießen. Im Preis inbegriffen ist ein leckeres & reichhaltiges vorweihnachtliches Advents-Brunchbüffet mit kalten und warmen Büffetkomponenten. \nFrisch gebrühter Kaffee und verschiedene Sorten an Tee sowie fruchtigen Orangensaft genießen Sie nach Herzenslust so viel Sie mögen (ebenfalls im Preis inbegriffen). Weitere Getränke und leckere Erfrischungen können an Bord à la carte erworben werden. \nDer Ordnung halber weisen wir darauf hin\, dass das Einbringen eigener Speisen und Getränke nicht gestattet ist. \nTicketservice\nDie Versandgebühr beträgt EUR 3\,00 pro Auftrag \nProgrammänderungen vorbehalten. Es gelten die zum Zeitpunkt der Veranstaltung gültigen Regeln einer Allgemeinverfügung im Rahmen der COVID-19 Pandemie. Sollte die Veranstaltung nicht durchführbar sein\, werden Sie rechtzeitig informiert.
URL:https://umzug.devfabrik.de/event/vorweihnachtliche-advents-brunchfahrt-am-vierten-adventssonntag-2/
LOCATION:Überseebrücke / Brandenburger Hafen (U3 Baumwall)\, Überseebrücke\, Hamburg\, 20459\, Deutschland
CATEGORIES:Veranstaltungen
ATTACH;FMTTYPE=image/jpeg:https://umzug.devfabrik.de/wp-content/uploads/2018/05/Adventsbrunch_weihnachtliches-Gedeck-klein.jpg
ORGANIZER;CN="Rainer%20Abicht%20%E2%80%93%20Elbreederei%20GmbH%20%26%20Co.%20KG":MAILTO:kontakt@abicht.de
END:VEVENT
END:VCALENDAR