BEGIN:VCALENDAR
VERSION:2.0
PRODID:-//Abicht | Hafenrundfahrten Hamburg - Schiffe chartern - Barkassenfahrt - ECPv5.16.0//NONSGML v1.0//EN
CALSCALE:GREGORIAN
METHOD:PUBLISH
X-WR-CALNAME:Abicht | Hafenrundfahrten Hamburg - Schiffe chartern - Barkassenfahrt
X-ORIGINAL-URL:https://umzug.devfabrik.de
X-WR-CALDESC:Veranstaltungen für Abicht | Hafenrundfahrten Hamburg - Schiffe chartern - Barkassenfahrt
BEGIN:VTIMEZONE
TZID:Europe/Berlin
BEGIN:DAYLIGHT
TZOFFSETFROM:+0100
TZOFFSETTO:+0200
TZNAME:CEST
DTSTART:20220327T010000
END:DAYLIGHT
BEGIN:STANDARD
TZOFFSETFROM:+0200
TZOFFSETTO:+0100
TZNAME:CET
DTSTART:20221030T010000
END:STANDARD
BEGIN:DAYLIGHT
TZOFFSETFROM:+0100
TZOFFSETTO:+0200
TZNAME:CEST
DTSTART:20230326T010000
END:DAYLIGHT
BEGIN:STANDARD
TZOFFSETFROM:+0200
TZOFFSETTO:+0100
TZNAME:CET
DTSTART:20231029T010000
END:STANDARD
BEGIN:DAYLIGHT
TZOFFSETFROM:+0100
TZOFFSETTO:+0200
TZNAME:CEST
DTSTART:20240331T010000
END:DAYLIGHT
BEGIN:STANDARD
TZOFFSETFROM:+0200
TZOFFSETTO:+0100
TZNAME:CET
DTSTART:20241027T010000
END:STANDARD
BEGIN:DAYLIGHT
TZOFFSETFROM:+0100
TZOFFSETTO:+0200
TZNAME:CEST
DTSTART:20250330T010000
END:DAYLIGHT
BEGIN:STANDARD
TZOFFSETFROM:+0200
TZOFFSETTO:+0100
TZNAME:CET
DTSTART:20251026T010000
END:STANDARD
BEGIN:DAYLIGHT
TZOFFSETFROM:+0100
TZOFFSETTO:+0200
TZNAME:CEST
DTSTART:20260329T010000
END:DAYLIGHT
BEGIN:STANDARD
TZOFFSETFROM:+0200
TZOFFSETTO:+0100
TZNAME:CET
DTSTART:20261025T010000
END:STANDARD
BEGIN:DAYLIGHT
TZOFFSETFROM:+0100
TZOFFSETTO:+0200
TZNAME:CEST
DTSTART:20270328T010000
END:DAYLIGHT
BEGIN:STANDARD
TZOFFSETFROM:+0200
TZOFFSETTO:+0100
TZNAME:CET
DTSTART:20271031T010000
END:STANDARD
BEGIN:DAYLIGHT
TZOFFSETFROM:+0100
TZOFFSETTO:+0200
TZNAME:CEST
DTSTART:20280326T010000
END:DAYLIGHT
BEGIN:STANDARD
TZOFFSETFROM:+0200
TZOFFSETTO:+0100
TZNAME:CET
DTSTART:20281029T010000
END:STANDARD
BEGIN:DAYLIGHT
TZOFFSETFROM:+0100
TZOFFSETTO:+0200
TZNAME:CEST
DTSTART:20290325T010000
END:DAYLIGHT
BEGIN:STANDARD
TZOFFSETFROM:+0200
TZOFFSETTO:+0100
TZNAME:CET
DTSTART:20291028T010000
END:STANDARD
BEGIN:DAYLIGHT
TZOFFSETFROM:+0100
TZOFFSETTO:+0200
TZNAME:CEST
DTSTART:20300331T010000
END:DAYLIGHT
BEGIN:STANDARD
TZOFFSETFROM:+0200
TZOFFSETTO:+0100
TZNAME:CET
DTSTART:20301027T010000
END:STANDARD
BEGIN:DAYLIGHT
TZOFFSETFROM:+0100
TZOFFSETTO:+0200
TZNAME:CEST
DTSTART:20310330T010000
END:DAYLIGHT
BEGIN:STANDARD
TZOFFSETFROM:+0200
TZOFFSETTO:+0100
TZNAME:CET
DTSTART:20311026T010000
END:STANDARD
BEGIN:DAYLIGHT
TZOFFSETFROM:+0100
TZOFFSETTO:+0200
TZNAME:CEST
DTSTART:20320328T010000
END:DAYLIGHT
BEGIN:STANDARD
TZOFFSETFROM:+0200
TZOFFSETTO:+0100
TZNAME:CET
DTSTART:20321031T010000
END:STANDARD
END:VTIMEZONE
BEGIN:VEVENT
DTSTART;VALUE=DATE:20220301
DTEND;VALUE=DATE:20320316
DTSTAMP:20260422T110118
CREATED:20180517T084324Z
LAST-MODIFIED:20220815T121128Z
UID:509-1646092800-1963007999@umzug.devfabrik.de
SUMMARY:XXL-Rundfahrt Richtung Blankenese
DESCRIPTION:UNSERE ABFAHRTEN \nAb dem 01. April bis zum 31. Oktober täglich um 12:45 Uhr Abfahrt \n2-stündige Rundfahrt auf unseren modernen Fahrgastschiffen. Am malerischen Elbufer entlang\, vorbei an Blankenese und dem Airbus Werk. Nach einer Wende geht es dann hinein in den Containerhafen bis zur Köhlbrandbrücke.\nZurück\, an der wunderschönen Skyline von Hamburg und der Elbphilharmonie vorbei zum Ausgangspunkt an den Landungsbrücken. \nFahrkarten\nBei den St. Pauli Landungsbrücken\, Brücke 1 oben auf der Promenade sowie an der Landungsbrücke 4\, unten am Wasser \nEs handelt sich bei den Tickets um sogenannte OPEN TICKETS\, welche nicht auf ein bestimmtes Datum festgesetzt sind\, aber zur Teilnahme an allen zweistündigen Hafenrundfahrten auf unseren maritimen Barkassen und großen Fahrgastschiffen gültig sind (Abfahrtszeiten s. o.). \nBarrierefreiheit\nUnsere Fahrgastschiffe MS RIVER STAR und MS HAMBURG sowie unser Schaufelradschiff MS LOUISIANA STAR sind barrierefrei über eine Gangway zu erreichen und verfügen über entsprechende Sanitärräume. Aufgrund der Gegebenheiten vor Ort können wir Ihnen im Vorwege nicht genau mitteilen\, zu welchen Zeiten die o. g. Schiffe zum Einsatz in der Hafenrundfahrt kommen (keine festen Abfahrtszeiten). \nUnsere Luxusbarkassen sowie auch unsere Traditionsbarkasse sind nicht barrierefrei zu erreichen. \nWeitere Informationen sowie eine umfangreiche persönliche Beratung\, auch für Ihre privaten oder geschäftlichen Anlässe exklusiv auf einem unserer Schiffe\, erhalten Sie von unserem Veranstaltungsteam – wir freuen uns auf Sie! \n  \n(Änderungen vorbehalten) \n\n    Mit dem Laden der Karte akzeptieren Sie die Datenschutzerklärung von Google.Mehr erfahren  Karte laden   Google Maps immer entsperren
URL:https://umzug.devfabrik.de/event/xxl-rundfahrt-richtung-blankenese/
LOCATION:St. Pauli Landungsbrücken\, Brücke 6-9\, St. Pauli Landungsbrücken\, Brücke 6-9\, Hamburg\, 20359\, Deutschland
CATEGORIES:Veranstaltungen
ATTACH;FMTTYPE=image/jpeg:https://umzug.devfabrik.de/wp-content/uploads/2018/05/fantasia-1440x1080.jpg
ORGANIZER;CN="Rainer%20Abicht%20%E2%80%93%20Elbreederei%20GmbH%20%26%20Co.%20KG":MAILTO:kontakt@abicht.de
END:VEVENT
END:VCALENDAR